BEGIN:VCALENDAR
VERSION:2.0
PRODID:-//djk-fc-sesslach.de - ECPv6.15.20//NONSGML v1.0//EN
CALSCALE:GREGORIAN
METHOD:PUBLISH
X-WR-CALNAME:djk-fc-sesslach.de
X-ORIGINAL-URL:https://djk-fc-sesslach.de
X-WR-CALDESC:Veranstaltungen für djk-fc-sesslach.de
REFRESH-INTERVAL;VALUE=DURATION:PT1H
X-Robots-Tag:noindex
X-PUBLISHED-TTL:PT1H
BEGIN:VTIMEZONE
TZID:Europe/Paris
BEGIN:DAYLIGHT
TZOFFSETFROM:+0100
TZOFFSETTO:+0200
TZNAME:CEST
DTSTART:20250330T010000
END:DAYLIGHT
BEGIN:STANDARD
TZOFFSETFROM:+0200
TZOFFSETTO:+0100
TZNAME:CET
DTSTART:20251026T010000
END:STANDARD
BEGIN:DAYLIGHT
TZOFFSETFROM:+0100
TZOFFSETTO:+0200
TZNAME:CEST
DTSTART:20260329T010000
END:DAYLIGHT
BEGIN:STANDARD
TZOFFSETFROM:+0200
TZOFFSETTO:+0100
TZNAME:CET
DTSTART:20261025T010000
END:STANDARD
BEGIN:DAYLIGHT
TZOFFSETFROM:+0100
TZOFFSETTO:+0200
TZNAME:CEST
DTSTART:20270328T010000
END:DAYLIGHT
BEGIN:STANDARD
TZOFFSETFROM:+0200
TZOFFSETTO:+0100
TZNAME:CET
DTSTART:20271031T010000
END:STANDARD
END:VTIMEZONE
BEGIN:VEVENT
DTSTART;TZID=Europe/Paris:20260402T163000
DTEND;TZID=Europe/Paris:20260402T190000
DTSTAMP:20260424T092414
CREATED:20250124T143839Z
LAST-MODIFIED:20260103T145059Z
UID:3985-1775147400-1775156400@djk-fc-sesslach.de
SUMMARY:Blutspenden
DESCRIPTION:
URL:https://djk-fc-sesslach.de/index.php/event/blutspenden-3/
LOCATION:Sportheim DJK/FC Sesslach\, Bahnhofstr 152\, Sesslach\, Bayern\, 96145\, Deutschland
CATEGORIES:Sonstiges
END:VEVENT
BEGIN:VEVENT
DTSTART;TZID=Europe/Paris:20260327T190000
DTEND;TZID=Europe/Paris:20260327T233000
DTSTAMP:20260424T092414
CREATED:20260103T145424Z
LAST-MODIFIED:20260103T145424Z
UID:4260-1774638000-1774654200@djk-fc-sesslach.de
SUMMARY:Jahreshauptversammlung mit Neuwahlen
DESCRIPTION:
URL:https://djk-fc-sesslach.de/index.php/event/jahreshauptversammlung-mit-neuwahlen/
LOCATION:Sportheim DJK/FC Sesslach\, Bahnhofstr 152\, Sesslach\, Bayern\, 96145\, Deutschland
CATEGORIES:Verein
END:VEVENT
BEGIN:VEVENT
DTSTART;TZID=Europe/Paris:20260217T170000
DTEND;TZID=Europe/Paris:20260217T235900
DTSTAMP:20260424T092414
CREATED:20260103T145332Z
LAST-MODIFIED:20260103T145332Z
UID:4258-1771347600-1771372740@djk-fc-sesslach.de
SUMMARY:Faschingskehraus-Party
DESCRIPTION:
URL:https://djk-fc-sesslach.de/index.php/event/faschingskehraus-party/
LOCATION:Sporthalle DJK/FC Seßlach
CATEGORIES:Veranstaltungen,Verein
END:VEVENT
END:VCALENDAR